BEGIN:VCALENDAR
VERSION:2.0
PRODID:-//Centro de Convenciones Aburrá Sur - ECPv4.9.8//NONSGML v1.0//EN
CALSCALE:GREGORIAN
METHOD:PUBLISH
X-WR-CALNAME:Centro de Convenciones Aburrá Sur
X-ORIGINAL-URL:https://aburrasur.com
X-WR-CALDESC:Eventos para Centro de Convenciones Aburrá Sur
BEGIN:VTIMEZONE
TZID:America/New_York
BEGIN:DAYLIGHT
TZOFFSETFROM:-0500
TZOFFSETTO:-0400
TZNAME:EDT
DTSTART:20180311T070000
END:DAYLIGHT
BEGIN:STANDARD
TZOFFSETFROM:-0400
TZOFFSETTO:-0500
TZNAME:EST
DTSTART:20181104T060000
END:STANDARD
END:VTIMEZONE
BEGIN:VEVENT
DTSTART;TZID="America/New_York":20180716T140000
DTEND;TZID="America/New_York":20180716T160000
DTSTAMP:20260424T002331
CREATED:20180716T125137Z
LAST-MODIFIED:20180716T125137Z
UID:5336-1531749600-1531756800@aburrasur.com
SUMMARY:Línea Directa
DESCRIPTION:
URL:https://aburrasur.com/evento/linea-directa/
LOCATION:Centro de Convenciones Aburrá Sur\, Cra 50 No. 47 - 16 Parque Brasil\, Itagüí\, Antioquia\, Colombia
CATEGORIES:Corporativo
END:VEVENT
END:VCALENDAR