BEGIN:VCALENDAR
VERSION:2.0
PRODID:-//Centro de Convenciones Aburrá Sur - ECPv4.9.8//NONSGML v1.0//EN
CALSCALE:GREGORIAN
METHOD:PUBLISH
X-WR-CALNAME:Centro de Convenciones Aburrá Sur
X-ORIGINAL-URL:https://aburrasur.com
X-WR-CALDESC:Eventos para Centro de Convenciones Aburrá Sur
BEGIN:VTIMEZONE
TZID:America/New_York
BEGIN:DAYLIGHT
TZOFFSETFROM:-0500
TZOFFSETTO:-0400
TZNAME:EDT
DTSTART:20180311T070000
END:DAYLIGHT
BEGIN:STANDARD
TZOFFSETFROM:-0400
TZOFFSETTO:-0500
TZNAME:EST
DTSTART:20181104T060000
END:STANDARD
END:VTIMEZONE
BEGIN:VEVENT
DTSTART;TZID="America/New_York":20181019T140000
DTEND;TZID="America/New_York":20181019T180000
DTSTAMP:20260421T114907
CREATED:20181017T204351Z
LAST-MODIFIED:20181017T204351Z
UID:6018-1539957600-1539972000@aburrasur.com
SUMMARY:Programa de Resultados
DESCRIPTION:
URL:https://aburrasur.com/evento/programa-de-resultados-3/
LOCATION:Centro de Convenciones Aburrá Sur\, Cra 50 No. 47 - 16 Parque Brasil\, Itagüí\, Antioquia\, Colombia
CATEGORIES:Corporativo
ORGANIZER;CN="S%C3%9APER%20HUMANOS":MAILTO:yosoysuperhumano@gmail.com
END:VEVENT
BEGIN:VEVENT
DTSTART;TZID="America/New_York":20181019T190000
DTEND;TZID="America/New_York":20181019T220000
DTSTAMP:20260421T114907
CREATED:20181017T203847Z
LAST-MODIFIED:20181017T203847Z
UID:6014-1539975600-1539986400@aburrasur.com
SUMMARY:Premios Musa de Oro Colombia
DESCRIPTION:
URL:https://aburrasur.com/evento/premios-musa-de-oro-colombia/
LOCATION:Centro de Convenciones Aburrá Sur\, Cra 50 No. 47 - 16 Parque Brasil\, Itagüí\, Antioquia\, Colombia
CATEGORIES:Corporativo
END:VEVENT
END:VCALENDAR