BEGIN:VCALENDAR
VERSION:2.0
PRODID:-//Centro de Convenciones Aburrá Sur - ECPv4.9.8//NONSGML v1.0//EN
CALSCALE:GREGORIAN
METHOD:PUBLISH
X-WR-CALNAME:Centro de Convenciones Aburrá Sur
X-ORIGINAL-URL:https://aburrasur.com
X-WR-CALDESC:Eventos para Centro de Convenciones Aburrá Sur
BEGIN:VTIMEZONE
TZID:America/New_York
BEGIN:DAYLIGHT
TZOFFSETFROM:-0500
TZOFFSETTO:-0400
TZNAME:EDT
DTSTART:20180311T070000
END:DAYLIGHT
BEGIN:STANDARD
TZOFFSETFROM:-0400
TZOFFSETTO:-0500
TZNAME:EST
DTSTART:20181104T060000
END:STANDARD
END:VTIMEZONE
BEGIN:VEVENT
DTSTART;TZID="America/New_York":20181020T080000
DTEND;TZID="America/New_York":20181020T180000
DTSTAMP:20260419T131619
CREATED:20181017T204448Z
LAST-MODIFIED:20181017T204448Z
UID:6020-1540022400-1540058400@aburrasur.com
SUMMARY:Programa de Resultados
DESCRIPTION:
URL:https://aburrasur.com/evento/programa-de-resultados-5/
LOCATION:Centro de Convenciones Aburrá Sur\, Cra 50 No. 47 - 16 Parque Brasil\, Itagüí\, Antioquia\, Colombia
CATEGORIES:Corporativo
ORGANIZER;CN="S%C3%9APER%20HUMANOS":MAILTO:yosoysuperhumano@gmail.com
END:VEVENT
BEGIN:VEVENT
DTSTART;TZID="America/New_York":20181020T123000
DTEND;TZID="America/New_York":20181020T153000
DTSTAMP:20260419T131619
CREATED:20181017T204810Z
LAST-MODIFIED:20181017T204810Z
UID:6024-1540038600-1540049400@aburrasur.com
SUMMARY:Aniversario 30 años
DESCRIPTION:
URL:https://aburrasur.com/evento/aniversario-30-anos/
LOCATION:Centro de Convenciones Aburrá Sur\, Cra 50 No. 47 - 16 Parque Brasil\, Itagüí\, Antioquia\, Colombia
CATEGORIES:Corporativo
ORGANIZER;CN="LADRILLERA%20ALCARRAZA":MAILTO:contabilidad@ladrilleraalcarraza.com
END:VEVENT
BEGIN:VEVENT
DTSTART;TZID="America/New_York":20181020T190000
DTEND;TZID="America/New_York":20181020T220000
DTSTAMP:20260419T131619
CREATED:20181017T204217Z
LAST-MODIFIED:20181017T204217Z
UID:6016-1540062000-1540072800@aburrasur.com
SUMMARY:Premios Musa de Oro Colombia
DESCRIPTION:
URL:https://aburrasur.com/evento/premios-musa-de-oro-colombia-2/
LOCATION:Centro de Convenciones Aburrá Sur\, Cra 50 No. 47 - 16 Parque Brasil\, Itagüí\, Antioquia\, Colombia
CATEGORIES:Corporativo
END:VEVENT
END:VCALENDAR