BEGIN:VCALENDAR
VERSION:2.0
PRODID:-//Centro de Convenciones Aburrá Sur - ECPv4.9.8//NONSGML v1.0//EN
CALSCALE:GREGORIAN
METHOD:PUBLISH
X-WR-CALNAME:Centro de Convenciones Aburrá Sur
X-ORIGINAL-URL:https://aburrasur.com
X-WR-CALDESC:Eventos para Centro de Convenciones Aburrá Sur
BEGIN:VTIMEZONE
TZID:America/New_York
BEGIN:DAYLIGHT
TZOFFSETFROM:-0500
TZOFFSETTO:-0400
TZNAME:EDT
DTSTART:20180311T070000
END:DAYLIGHT
BEGIN:STANDARD
TZOFFSETFROM:-0400
TZOFFSETTO:-0500
TZNAME:EST
DTSTART:20181104T060000
END:STANDARD
END:VTIMEZONE
BEGIN:VEVENT
DTSTART;TZID="America/New_York":20181021T080000
DTEND;TZID="America/New_York":20181022T000000
DTSTAMP:20260419T174558
CREATED:20181017T204534Z
LAST-MODIFIED:20181017T204534Z
UID:6022-1540108800-1540166400@aburrasur.com
SUMMARY:Programa de Resultados
DESCRIPTION:
URL:https://aburrasur.com/evento/programa-de-resultados-6/
LOCATION:Centro de Convenciones Aburrá Sur\, Cra 50 No. 47 - 16 Parque Brasil\, Itagüí\, Antioquia\, Colombia
CATEGORIES:Corporativo
ORGANIZER;CN="S%C3%9APER%20HUMANOS":MAILTO:yosoysuperhumano@gmail.com
END:VEVENT
BEGIN:VEVENT
DTSTART;TZID="America/New_York":20181021T150000
DTEND;TZID="America/New_York":20181021T180000
DTSTAMP:20260419T174558
CREATED:20181017T204907Z
LAST-MODIFIED:20181017T204907Z
UID:6027-1540134000-1540144800@aburrasur.com
SUMMARY:Novedad ONE LIFE
DESCRIPTION:
URL:https://aburrasur.com/evento/novedad-one-life/
LOCATION:Centro de Convenciones Aburrá Sur\, Cra 50 No. 47 - 16 Parque Brasil\, Itagüí\, Antioquia\, Colombia
CATEGORIES:Corporativo
ORGANIZER;CN="ODT%20SISTEMA%20EDUCATIVO%20ZONA%20CENTRO":MAILTO:odtsitemaoperativo@gmail.com
END:VEVENT
END:VCALENDAR