BEGIN:VCALENDAR
VERSION:2.0
PRODID:-//Centro de Convenciones Aburrá Sur - ECPv4.9.8//NONSGML v1.0//EN
CALSCALE:GREGORIAN
METHOD:PUBLISH
X-WR-CALNAME:Centro de Convenciones Aburrá Sur
X-ORIGINAL-URL:https://aburrasur.com
X-WR-CALDESC:Eventos para Centro de Convenciones Aburrá Sur
BEGIN:VTIMEZONE
TZID:America/New_York
BEGIN:DAYLIGHT
TZOFFSETFROM:-0500
TZOFFSETTO:-0400
TZNAME:EDT
DTSTART:20180311T070000
END:DAYLIGHT
BEGIN:STANDARD
TZOFFSETFROM:-0400
TZOFFSETTO:-0500
TZNAME:EST
DTSTART:20181104T060000
END:STANDARD
END:VTIMEZONE
BEGIN:VEVENT
DTSTART;TZID="America/New_York":20181024T070000
DTEND;TZID="America/New_York":20181024T170000
DTSTAMP:20260420T055827
CREATED:20181022T192154Z
LAST-MODIFIED:20181022T192154Z
UID:6035-1540364400-1540400400@aburrasur.com
SUMMARY:Capacitación
DESCRIPTION:
URL:https://aburrasur.com/evento/capacitacion-4/
LOCATION:Centro de Convenciones Aburrá Sur\, Cra 50 No. 47 - 16 Parque Brasil\, Itagüí\, Antioquia\, Colombia
CATEGORIES:Corporativo
ORGANIZER;CN="Agropecuaria%20San%20Fernando":MAILTO:lcuervo@agrosan.com.co
END:VEVENT
BEGIN:VEVENT
DTSTART;TZID="America/New_York":20181024T080000
DTEND;TZID="America/New_York":20181024T120000
DTSTAMP:20260420T055827
CREATED:20181022T192953Z
LAST-MODIFIED:20181022T192953Z
UID:6046-1540368000-1540382400@aburrasur.com
SUMMARY:Curso "Desarrollo de Habilidades Personales para Emprendedores"
DESCRIPTION:
URL:https://aburrasur.com/evento/curso-desarrollo-de-habilidades-personales-para-emprendedores/
LOCATION:Centro de Convenciones Aburrá Sur\, Cra 50 No. 47 - 16 Parque Brasil\, Itagüí\, Antioquia\, Colombia
CATEGORIES:Corporativo
END:VEVENT
BEGIN:VEVENT
DTSTART;TZID="America/New_York":20181024T080000
DTEND;TZID="America/New_York":20181024T140000
DTSTAMP:20260420T055827
CREATED:20181022T193057Z
LAST-MODIFIED:20181022T193057Z
UID:6048-1540368000-1540389600@aburrasur.com
SUMMARY:Consultoría Innovación Destilada para Pyme
DESCRIPTION:
URL:https://aburrasur.com/evento/consultoria-innovacion-destilada-para-pyme/
LOCATION:Centro de Convenciones Aburrá Sur\, Cra 50 No. 47 - 16 Parque Brasil\, Itagüí\, Antioquia\, Colombia
CATEGORIES:Corporativo
END:VEVENT
BEGIN:VEVENT
DTSTART;TZID="America/New_York":20181024T093000
DTEND;TZID="America/New_York":20181024T120000
DTSTAMP:20260420T055827
CREATED:20181022T193226Z
LAST-MODIFIED:20181022T193226Z
UID:6050-1540373400-1540382400@aburrasur.com
SUMMARY:Cambios Avon
DESCRIPTION:
URL:https://aburrasur.com/evento/cambios-avon-16/
LOCATION:Centro de Convenciones Aburrá Sur\, Cra 50 No. 47 - 16 Parque Brasil\, Itagüí\, Antioquia\, Colombia
CATEGORIES:Corporativo
END:VEVENT
BEGIN:VEVENT
DTSTART;TZID="America/New_York":20181024T140000
DTEND;TZID="America/New_York":20181024T160000
DTSTAMP:20260420T055827
CREATED:20181022T193345Z
LAST-MODIFIED:20181022T193345Z
UID:6052-1540389600-1540396800@aburrasur.com
SUMMARY:Conferencia Carmel
DESCRIPTION:
URL:https://aburrasur.com/evento/conferencia-carmel-44/
LOCATION:Centro de Convenciones Aburrá Sur\, Cra 50 No. 47 - 16 Parque Brasil\, Itagüí\, Antioquia\, Colombia
CATEGORIES:Corporativo
END:VEVENT
BEGIN:VEVENT
DTSTART;TZID="America/New_York":20181024T173000
DTEND;TZID="America/New_York":20181024T210000
DTSTAMP:20260420T055827
CREATED:20181022T193613Z
LAST-MODIFIED:20181022T193613Z
UID:6054-1540402200-1540414800@aburrasur.com
SUMMARY:Encuentro De Afiliados
DESCRIPTION:
URL:https://aburrasur.com/evento/encuentro-de-afiliados-3/
LOCATION:Centro de Convenciones Aburrá Sur\, Cra 50 No. 47 - 16 Parque Brasil\, Itagüí\, Antioquia\, Colombia
CATEGORIES:Corporativo
END:VEVENT
END:VCALENDAR