BEGIN:VCALENDAR
VERSION:2.0
PRODID:-//Centro de Convenciones Aburrá Sur - ECPv4.9.8//NONSGML v1.0//EN
CALSCALE:GREGORIAN
METHOD:PUBLISH
X-WR-CALNAME:Centro de Convenciones Aburrá Sur
X-ORIGINAL-URL:https://aburrasur.com
X-WR-CALDESC:Eventos para Centro de Convenciones Aburrá Sur
BEGIN:VTIMEZONE
TZID:America/New_York
BEGIN:DAYLIGHT
TZOFFSETFROM:-0500
TZOFFSETTO:-0400
TZNAME:EDT
DTSTART:20180311T070000
END:DAYLIGHT
BEGIN:STANDARD
TZOFFSETFROM:-0400
TZOFFSETTO:-0500
TZNAME:EST
DTSTART:20181104T060000
END:STANDARD
END:VTIMEZONE
BEGIN:VEVENT
DTSTART;TZID="America/New_York":20181026T080000
DTEND;TZID="America/New_York":20181026T110000
DTSTAMP:20260420T133020
CREATED:20181022T194853Z
LAST-MODIFIED:20181022T194853Z
UID:6062-1540540800-1540551600@aburrasur.com
SUMMARY:Prototipaje Modelación Cámara Itinerante
DESCRIPTION:
URL:https://aburrasur.com/evento/prototipaje-modelacion-camara-itinerante/
LOCATION:Centro de Convenciones Aburrá Sur\, Cra 50 No. 47 - 16 Parque Brasil\, Itagüí\, Antioquia\, Colombia
CATEGORIES:Corporativo
END:VEVENT
BEGIN:VEVENT
DTSTART;TZID="America/New_York":20181026T080000
DTEND;TZID="America/New_York":20181026T110000
DTSTAMP:20260420T133020
CREATED:20181022T195014Z
LAST-MODIFIED:20181022T195014Z
UID:6064-1540540800-1540551600@aburrasur.com
SUMMARY:Cambios Pacifika
DESCRIPTION:
URL:https://aburrasur.com/evento/cambios-pacifika-50/
LOCATION:Centro de Convenciones Aburrá Sur\, Cra 50 No. 47 - 16 Parque Brasil\, Itagüí\, Antioquia\, Colombia
CATEGORIES:Corporativo
END:VEVENT
BEGIN:VEVENT
DTSTART;TZID="America/New_York":20181026T080000
DTEND;TZID="America/New_York":20181026T120000
DTSTAMP:20260420T133020
CREATED:20181022T195909Z
LAST-MODIFIED:20181022T195909Z
UID:6066-1540540800-1540555200@aburrasur.com
SUMMARY:Curso "Desarrollo de Habilidades Personales para Emprendedores"
DESCRIPTION:
URL:https://aburrasur.com/evento/curso-desarrollo-de-habilidades-personales-para-emprendedores-2/
LOCATION:Centro de Convenciones Aburrá Sur\, Cra 50 No. 47 - 16 Parque Brasil\, Itagüí\, Antioquia\, Colombia
CATEGORIES:Corporativo
END:VEVENT
BEGIN:VEVENT
DTSTART;TZID="America/New_York":20181026T110000
DTEND;TZID="America/New_York":20181026T120000
DTSTAMP:20260420T133020
CREATED:20181022T200009Z
LAST-MODIFIED:20181022T200009Z
UID:6068-1540551600-1540555200@aburrasur.com
SUMMARY:Consultoría Innovación Destilada para Pyme
DESCRIPTION:
URL:https://aburrasur.com/evento/consultoria-innovacion-destilada-para-pyme-2/
LOCATION:Centro de Convenciones Aburrá Sur\, Cra 50 No. 47 - 16 Parque Brasil\, Itagüí\, Antioquia\, Colombia
CATEGORIES:Corporativo
END:VEVENT
BEGIN:VEVENT
DTSTART;TZID="America/New_York":20181026T130000
DTEND;TZID="America/New_York":20181026T180000
DTSTAMP:20260420T133020
CREATED:20181022T200745Z
LAST-MODIFIED:20181022T200745Z
UID:6070-1540558800-1540576800@aburrasur.com
SUMMARY:Capacitación
DESCRIPTION:
URL:https://aburrasur.com/evento/capacitacion-6/
LOCATION:Centro de Convenciones Aburrá Sur\, Cra 50 No. 47 - 16 Parque Brasil\, Itagüí\, Antioquia\, Colombia
CATEGORIES:Corporativo
END:VEVENT
BEGIN:VEVENT
DTSTART;TZID="America/New_York":20181026T153000
DTEND;TZID="America/New_York":20181026T180000
DTSTAMP:20260420T133020
CREATED:20181022T201059Z
LAST-MODIFIED:20181022T201059Z
UID:6073-1540567800-1540576800@aburrasur.com
SUMMARY:Reunión
DESCRIPTION:
URL:https://aburrasur.com/evento/reunion-10/
LOCATION:Centro de Convenciones Aburrá Sur\, Cra 50 No. 47 - 16 Parque Brasil\, Itagüí\, Antioquia\, Colombia
CATEGORIES:Corporativo
END:VEVENT
END:VCALENDAR