BEGIN:VCALENDAR
VERSION:2.0
PRODID:-//Centro de Convenciones Aburrá Sur - ECPv4.9.8//NONSGML v1.0//EN
CALSCALE:GREGORIAN
METHOD:PUBLISH
X-WR-CALNAME:Centro de Convenciones Aburrá Sur
X-ORIGINAL-URL:https://aburrasur.com
X-WR-CALDESC:Eventos para Centro de Convenciones Aburrá Sur
BEGIN:VTIMEZONE
TZID:America/New_York
BEGIN:DAYLIGHT
TZOFFSETFROM:-0500
TZOFFSETTO:-0400
TZNAME:EDT
DTSTART:20180311T070000
END:DAYLIGHT
BEGIN:STANDARD
TZOFFSETFROM:-0400
TZOFFSETTO:-0500
TZNAME:EST
DTSTART:20181104T060000
END:STANDARD
END:VTIMEZONE
BEGIN:VEVENT
DTSTART;TZID="America/New_York":20181030T080000
DTEND;TZID="America/New_York":20181030T100000
DTSTAMP:20260421T042407
CREATED:20181030T205501Z
LAST-MODIFIED:20181030T205501Z
UID:6080-1540886400-1540893600@aburrasur.com
SUMMARY:Capacitación Mentoría Empréndelo
DESCRIPTION:
URL:https://aburrasur.com/evento/capacitacion-mentoria-emprendelo/
LOCATION:Centro de Convenciones Aburrá Sur\, Cra 50 No. 47 - 16 Parque Brasil\, Itagüí\, Antioquia\, Colombia
CATEGORIES:Corporativo
END:VEVENT
BEGIN:VEVENT
DTSTART;TZID="America/New_York":20181030T080000
DTEND;TZID="America/New_York":20181030T120000
DTSTAMP:20260421T042407
CREATED:20181030T205832Z
LAST-MODIFIED:20181030T205832Z
UID:6082-1540886400-1540900800@aburrasur.com
SUMMARY:Curso "La Felicidad como Factor Potencializador en las Empresas"
DESCRIPTION:
URL:https://aburrasur.com/evento/curso-la-felicidad-como-factor-potencializador-en-las-empresas-2/
LOCATION:Centro de Convenciones Aburrá Sur\, Cra 50 No. 47 - 16 Parque Brasil\, Itagüí\, Antioquia\, Colombia
CATEGORIES:Corporativo
END:VEVENT
BEGIN:VEVENT
DTSTART;TZID="America/New_York":20181030T130000
DTEND;TZID="America/New_York":20181030T150000
DTSTAMP:20260421T042407
CREATED:20181030T205947Z
LAST-MODIFIED:20181030T205947Z
UID:6084-1540904400-1540911600@aburrasur.com
SUMMARY:Reunión
DESCRIPTION:
URL:https://aburrasur.com/evento/reunion-11/
LOCATION:Centro de Convenciones Aburrá Sur\, Cra 50 No. 47 - 16 Parque Brasil\, Itagüí\, Antioquia\, Colombia
CATEGORIES:Corporativo
END:VEVENT
END:VCALENDAR